BEGIN:VCALENDAR
VERSION:2.0
PRODID:-//ISPO - ECPv6.15.16//NONSGML v1.0//EN
CALSCALE:GREGORIAN
METHOD:PUBLISH
X-WR-CALNAME:ISPO
X-ORIGINAL-URL:https://ispoint.staging.celi.co.za
X-WR-CALDESC:Events for ISPO
REFRESH-INTERVAL;VALUE=DURATION:PT1H
X-Robots-Tag:noindex
X-PUBLISHED-TTL:PT1H
BEGIN:VTIMEZONE
TZID:Europe/Paris
BEGIN:DAYLIGHT
TZOFFSETFROM:+0100
TZOFFSETTO:+0200
TZNAME:CEST
DTSTART:20240331T010000
END:DAYLIGHT
BEGIN:STANDARD
TZOFFSETFROM:+0200
TZOFFSETTO:+0100
TZNAME:CET
DTSTART:20241027T010000
END:STANDARD
BEGIN:DAYLIGHT
TZOFFSETFROM:+0100
TZOFFSETTO:+0200
TZNAME:CEST
DTSTART:20250330T010000
END:DAYLIGHT
BEGIN:STANDARD
TZOFFSETFROM:+0200
TZOFFSETTO:+0100
TZNAME:CET
DTSTART:20251026T010000
END:STANDARD
BEGIN:DAYLIGHT
TZOFFSETFROM:+0100
TZOFFSETTO:+0200
TZNAME:CEST
DTSTART:20260329T010000
END:DAYLIGHT
BEGIN:STANDARD
TZOFFSETFROM:+0200
TZOFFSETTO:+0100
TZNAME:CET
DTSTART:20261025T010000
END:STANDARD
END:VTIMEZONE
BEGIN:VEVENT
DTSTART;VALUE=DATE:20251008
DTEND;VALUE=DATE:20251011
DTSTAMP:20260422T032508
CREATED:20250911T065321Z
LAST-MODIFIED:20250911T065321Z
UID:10000052-1759881600-1760140799@ispoint.staging.celi.co.za
SUMMARY:AT2030 Frontiers Symposium – 8–10 October 2025\, Kathmandu\, Nepal
DESCRIPTION:ISPO is pleased to share details of the upcoming AT2030 Frontiers Symposium\, taking place from 8–10 October 2025 in Kathmandu\, Nepal. The event is hosted by the Royal Academy of Engineering\, in collaboration with Kathmandu University (KU) and the GDI Hub’s AT2030 Programme\, funded by UK International Development. \nThis year’s theme\, “Inclusive Innovation in Action: Community-led Assistive Technology Solutions in Local Context\,”will highlight innovative approaches to advancing assistive technology (AT) in low-resource settings. \nThe symposium will focus on three sub-themes: \n\n\n🛠️ Local Innovation & Production for Sustainable AT Provisioning \n\n\n🤝 Integration & Inclusion for Transformed AT Delivery \n\n\n🚪 AT Solutions for Improved Access \n\n\nThe event will bring together early- to mid-career researchers\, innovators\, and practitioners from around the world to co-create solutions\, exchange knowledge\, and foster collaboration. In addition to networking and interdisciplinary sessions\, participants will have the opportunity to apply for £20\,000 seed funding to support post-event collaborative projects. \nSelection is happening on a rolling basis. Interested participants are encouraged to apply as soon as possible using the following link: Apply here.
URL:https://ispoint.staging.celi.co.za/event/at2030-frontiers-symposium-8-10-october-2025-kathmandu-nepal/
LOCATION:Kathmandu University\, JG9Q+PGG\, Dhulikhel\, 45200\, Nepal
CATEGORIES:Other Events
ATTACH;FMTTYPE=image/jpeg:https://ispoint.staging.celi.co.za/wp-content/uploads/2025/09/1756455202616.jpeg
END:VEVENT
BEGIN:VEVENT
DTSTART;TZID=Europe/Paris:20251014T080000
DTEND;TZID=Europe/Paris:20251014T170000
DTSTAMP:20260422T032508
CREATED:20251001T113846Z
LAST-MODIFIED:20251001T113846Z
UID:10000056-1760428800-1760461200@ispoint.staging.celi.co.za
SUMMARY:Seminar on Rehabilitation Health Services and Assistive Technology
DESCRIPTION:This event is hosted in association with ISPO Bangladesh.
URL:https://ispoint.staging.celi.co.za/event/seminar-on-rehabilitation-health-services-and-assistive-technology/
LOCATION:LGED Auditorium\, Dhaka\, Bangladesh
CATEGORIES:ISPO Events
ATTACH;FMTTYPE=image/jpeg:https://ispoint.staging.celi.co.za/wp-content/uploads/2025/10/1759214655247.jpeg
END:VEVENT
BEGIN:VEVENT
DTSTART;TZID=Europe/Paris:20251016T140000
DTEND;TZID=Europe/Paris:20251016T150000
DTSTAMP:20260422T032508
CREATED:20250821T063758Z
LAST-MODIFIED:20250821T064036Z
UID:10000050-1760623200-1760626800@ispoint.staging.celi.co.za
SUMMARY:ISPO's Scientific Committee presents a webinar!
DESCRIPTION:🔎 Peer Review in Academic Publishing: Process\, Pros & Cons\, and Best Practices \n🗓️ Thursday\, October 16th\n🕑 2:00 PM CET \nJoin Prof. Henk Stam\, M.D.\, PhD\, FRCP as he explores the advantages and challenges of the peer review process and shares practical tips for conducting effective reviews. \n✅ Free for ISPO members\n💶 EUR 15 for non-members \n👉 Register now: https://us02web.zoom.us/webinar/register/WN_EBaAHHLwREqmsdgOnO1gYw \n#ISPO #Webinar #PeerReview #AcademicPublishing #Research
URL:https://ispoint.staging.celi.co.za/event/ispos-scientific-committee-presents-a-webinar/
LOCATION:Virtual
CATEGORIES:ISPO Events
ATTACH;FMTTYPE=image/png:https://ispoint.staging.celi.co.za/wp-content/uploads/2025/08/Webinar-Flyer_Oct2025-V@.png
END:VEVENT
BEGIN:VEVENT
DTSTART;TZID=Europe/Paris:20251030T130000
DTEND;TZID=Europe/Paris:20251030T143000
DTSTAMP:20260422T032508
CREATED:20250910T075643Z
LAST-MODIFIED:20250910T075832Z
UID:10000051-1761829200-1761834600@ispoint.staging.celi.co.za
SUMMARY:ISPO's CPD Committee presents a webinar!
DESCRIPTION:🌍✨ Join us for an exciting ISPO Webinar!  \nTopic: Biomechanical Impact of Lower Limb Orthotics in Adults with Neurological Disorders: A Multidisciplinary Approach to Design and Composition  \n🗓️ Date: 30 October 2025  \n⏰ Time: 13:00 CET  \n📍 Free for ISPO members | EUR 15 for non-members \n🔹 Moderator: Bryan Malas – Director of Orthotics/Prosthetics\, Ann & Robert H. Lurie Children’s Hospital of Chicago; ISPO President-elect 2025–2027 \n🔹 Speakers:\n▪️ Soji Tanaka – Physical therapist\, Niigata University of Health and Welfare; expert in post-stroke gait analysis\n▪️ Volker Schmidt – Experienced CPO with 30+ years\, International Trainer at Otto Bock \nDon’t miss this opportunity to explore a multidisciplinary perspective on the design and composition of orthotics for adults with neurological disorders. \n👉 Register now: https://us02web.zoom.us/webinar/register/WN_vd6dRx8DQ1WJb8dAX2_K1A#/registration \n#ISPO #Webinar
URL:https://ispoint.staging.celi.co.za/event/ispos-cpd-committee-presents-a-webinar/
LOCATION:Virtual
CATEGORIES:ISPO Events
ATTACH;FMTTYPE=image/png:https://ispoint.staging.celi.co.za/wp-content/uploads/2025/09/Biomechanical-Impact-of-Lower-Limb-Orthotics-Webinar.png
END:VEVENT
END:VCALENDAR