BEGIN:VCALENDAR
VERSION:2.0
PRODID:-//ISPO - ECPv6.15.16//NONSGML v1.0//EN
CALSCALE:GREGORIAN
METHOD:PUBLISH
X-ORIGINAL-URL:https://ispoint.staging.celi.co.za
X-WR-CALDESC:Events for ISPO
REFRESH-INTERVAL;VALUE=DURATION:PT1H
X-Robots-Tag:noindex
X-PUBLISHED-TTL:PT1H
BEGIN:VTIMEZONE
TZID:Europe/Paris
BEGIN:DAYLIGHT
TZOFFSETFROM:+0100
TZOFFSETTO:+0200
TZNAME:CEST
DTSTART:20250330T010000
END:DAYLIGHT
BEGIN:STANDARD
TZOFFSETFROM:+0200
TZOFFSETTO:+0100
TZNAME:CET
DTSTART:20251026T010000
END:STANDARD
BEGIN:DAYLIGHT
TZOFFSETFROM:+0100
TZOFFSETTO:+0200
TZNAME:CEST
DTSTART:20260329T010000
END:DAYLIGHT
BEGIN:STANDARD
TZOFFSETFROM:+0200
TZOFFSETTO:+0100
TZNAME:CET
DTSTART:20261025T010000
END:STANDARD
BEGIN:DAYLIGHT
TZOFFSETFROM:+0100
TZOFFSETTO:+0200
TZNAME:CEST
DTSTART:20270328T010000
END:DAYLIGHT
BEGIN:STANDARD
TZOFFSETFROM:+0200
TZOFFSETTO:+0100
TZNAME:CET
DTSTART:20271031T010000
END:STANDARD
BEGIN:DAYLIGHT
TZOFFSETFROM:+0100
TZOFFSETTO:+0200
TZNAME:CEST
DTSTART:20280326T010000
END:DAYLIGHT
BEGIN:STANDARD
TZOFFSETFROM:+0200
TZOFFSETTO:+0100
TZNAME:CET
DTSTART:20281029T010000
END:STANDARD
END:VTIMEZONE
BEGIN:VEVENT
DTSTART;TZID=Europe/Paris:20260323T080000
DTEND;TZID=Europe/Paris:20260325T170000
DTSTAMP:20260421T211155
CREATED:20250617T140451Z
LAST-MODIFIED:20251029T153515Z
UID:10000047-1774252800-1774458000@ispoint.staging.celi.co.za
SUMMARY:Global Educators Meeting (GEM) 2026
DESCRIPTION:The theme of GEM 2026 is ”From Local Roots to Global Reach: Building Educational Bridges”.  This theme was developed collaboratively using the results of the GEM 2024 meeting survey\, the GEM Subcommittee\, and the local organizing committee. \nThe theme offers a framework for educators to share best practices\, scholarly work\, and solutions designed to support the future of P&O education. \nThe program subcommittee is looking forward to submissions supporting the theme\, including those related to global perspectives and curriculum innovation\, technology and teaching in P&O\, and collaboration in P&O education.
URL:https://ispoint.staging.celi.co.za/event/global-educators-meeting-gem-2026/
LOCATION:Bangkok\, Bangkok\, Thailand
CATEGORIES:ISPO Events
END:VEVENT
BEGIN:VEVENT
DTSTART;TZID=Europe/Paris:20260323T080000
DTEND;TZID=Europe/Paris:20260326T170000
DTSTAMP:20260421T211155
CREATED:20250929T055706Z
LAST-MODIFIED:20250929T055706Z
UID:10000054-1774252800-1774544400@ispoint.staging.celi.co.za
SUMMARY:25th European Congress of Physical and Rehabilitation Medicine (ESPRM 2026)
DESCRIPTION:This leading European congress will bring together medical professionals\, researchers\, industry leaders\, and rehabilitation specialists from across the globe to exchange knowledge\, present innovations\, and discuss the evolving challenges in the field of Physical and Rehabilitation Medicine. \nThe event is officially endorsed by the International Society of Physical and Rehabilitation Medicine (ISPRM) and supported by partners including the International Spinal Cord Society (ISCoS) and UEMS-PRM. \nVisit the event page: https://esprm2026.com
URL:https://ispoint.staging.celi.co.za/event/25th-european-congress-of-physical-and-rehabilitation-medicine-esprm-2026/
LOCATION:Kraków\, Poland\, Kraków\, Poland
CATEGORIES:ISPO Events
ATTACH;FMTTYPE=image/jpeg:https://ispoint.staging.celi.co.za/wp-content/uploads/2025/09/image007.jpg
END:VEVENT
BEGIN:VEVENT
DTSTART;VALUE=DATE:20260519
DTEND;VALUE=DATE:20260523
DTSTAMP:20260421T211155
CREATED:20250819T074432Z
LAST-MODIFIED:20250819T074606Z
UID:10000049-1779148800-1779494399@ispoint.staging.celi.co.za
SUMMARY:OTWorld 2026
DESCRIPTION:Join the number one worldwide in the medical aids sector! \nIn 2026\, OTWorld celebrates its 50th anniversary – half a century of innovation\, exchange\, and progress in modern assistive technology and patient care. \nThe unique combination of International Trade Show and World Congress brings together manufacturers\, retailers\, and service providers from around the globe. Discover cutting-edge innovations\, treatment concepts\, and hands-on workshops with real patient cases. Special shows\, start-up insights\, and international training opportunities make OTWorld a true highlight. \nTreatment areas:Mobility limitations\, diabetes & vascular diseases\, osteoarthritis & degenerative conditions\, stroke & neurological disorders\, sports prevention & trauma care\, back health\, movement disorders & paralysis\, cancer care\, and preventi medicine. \nKey topics of the World Congress: Prosthetics & orthotics\, orthopedic tootwear technology\, rehabilitation\, biomechanics\, pediatric / adolescent and neuro-orthopaedics\, treatment in crisis areas\, amputation surgery and many more. \nDon’t miss the chance to expand your knowledge\, connect with peers\, and shape the future of care!
URL:https://ispoint.staging.celi.co.za/event/otworld-2026/
LOCATION:Leipziger Messe\, Leipzig\, Germany\, Messe-Allee 1\, 04356 Leipzig\, Leipzig\, 04356\, Germany
CATEGORIES:ISPO Events
ATTACH;FMTTYPE=image/png:https://ispoint.staging.celi.co.za/wp-content/uploads/2025/08/Screenshot-2025-08-19-at-1.06.57-PM.png
END:VEVENT
BEGIN:VEVENT
DTSTART;VALUE=DATE:20270322
DTEND;VALUE=DATE:20270326
DTSTAMP:20260421T211155
CREATED:20250617T141337Z
LAST-MODIFIED:20250818T102532Z
UID:10000048-1805673600-1806019199@ispoint.staging.celi.co.za
SUMMARY:ISPO 21st World Congress 2027
DESCRIPTION:Thailand Selected to Host ISPO World Congress 2027! \nWe are thrilled to announce that Bangkok\, Thailand has been selected as the host city for the ISPO 21st World Congress\, taking place 22–25 March 2027. \nEmbrace a World Connected in Bangkok\, Thailand 2027! \nThailand\, a vibrant hub at the heart of Asia\, uniquely blends rich cultural heritage and dynamic diversity with a modern\, forward-thinking spirit. Our tropical kingdom has long served as a natural gateway to Southeast Asia\, one of the world’s fastest-growing regions\, warmly welcoming visitors from around the globe. Prepare to discover breathtaking natural beauty\, inspiring tradition\, and authentic Thai hospitality. \nJoin us to gain foremost professional insights and establish invaluable global connections in a setting where tradition and advancement perfectly converge. ISPO International and ISPO Thailand are looking forward to welcoming you to the ISPO World Congress 2027 in Bangkok! \n 
URL:https://ispoint.staging.celi.co.za/event/i-s-p-o-21st-world-congress-2027/
CATEGORIES:ISPO Events
ATTACH;FMTTYPE=image/jpeg:https://ispoint.staging.celi.co.za/wp-content/uploads/2025/06/ISPO_2027.jpg
END:VEVENT
END:VCALENDAR