BEGIN:VCALENDAR
VERSION:2.0
PRODID:-//ISPO - ECPv6.15.16//NONSGML v1.0//EN
CALSCALE:GREGORIAN
METHOD:PUBLISH
X-ORIGINAL-URL:https://ispoint.staging.celi.co.za
X-WR-CALDESC:Events for ISPO
REFRESH-INTERVAL;VALUE=DURATION:PT1H
X-Robots-Tag:noindex
X-PUBLISHED-TTL:PT1H
BEGIN:VTIMEZONE
TZID:Europe/Paris
BEGIN:DAYLIGHT
TZOFFSETFROM:+0100
TZOFFSETTO:+0200
TZNAME:CEST
DTSTART:20240331T010000
END:DAYLIGHT
BEGIN:STANDARD
TZOFFSETFROM:+0200
TZOFFSETTO:+0100
TZNAME:CET
DTSTART:20241027T010000
END:STANDARD
BEGIN:DAYLIGHT
TZOFFSETFROM:+0100
TZOFFSETTO:+0200
TZNAME:CEST
DTSTART:20250330T010000
END:DAYLIGHT
BEGIN:STANDARD
TZOFFSETFROM:+0200
TZOFFSETTO:+0100
TZNAME:CET
DTSTART:20251026T010000
END:STANDARD
BEGIN:DAYLIGHT
TZOFFSETFROM:+0100
TZOFFSETTO:+0200
TZNAME:CEST
DTSTART:20260329T010000
END:DAYLIGHT
BEGIN:STANDARD
TZOFFSETFROM:+0200
TZOFFSETTO:+0100
TZNAME:CET
DTSTART:20261025T010000
END:STANDARD
END:VTIMEZONE
BEGIN:VEVENT
DTSTART;TZID=Europe/Paris:20251113T080000
DTEND;TZID=Europe/Paris:20251114T170000
DTSTAMP:20260422T032605
CREATED:20250917T094637Z
LAST-MODIFIED:20250917T094637Z
UID:10000053-1763020800-1763139600@ispoint.staging.celi.co.za
SUMMARY:Congrès ISPO-France 2025
DESCRIPTION:Join us in Lyon on 13 & 14 November 2025 at the Centre de Congrès de Lyon for Congrès ISPO-France 2025. This gathering is the national forum for professionals in prosthetics\, orthotics\, podo-orthotics and rehabilitation to share research\, explore innovations\, and strengthen interdisciplinary collaborations. \nWhy attend? \n\n\nA rich scientific programme with oral presentations\, posters\, case-studies\, and opportunities to engage with industry specialists. \n\n\nSpecial sessions focused on new technologies\, rehabilitation practice\, and professional development. \n\n\nReduced rates for students\, members\, and group registrations. \n\n\nHow to register:Select your profile (member\, non-member\, student\, presenter\, etc.)\, fill in the form\, and complete registration via the official link. Groups of 5+ can register together. livebyglevents.key4register.com \nDon’t miss this chance to connect with peers\, share your work\, and stay at the forefront of advances in P&O in France.
URL:https://ispoint.staging.celi.co.za/event/congres-ispo-france-2025/
LOCATION:Lyon\, France\, Lyon\, France
CATEGORIES:ISPO Events
ATTACH;FMTTYPE=image/jpeg:https://ispoint.staging.celi.co.za/wp-content/uploads/2025/09/1757875883264.jpeg
END:VEVENT
END:VCALENDAR