BEGIN:VCALENDAR
VERSION:2.0
PRODID:-//ISPO - ECPv6.15.16//NONSGML v1.0//EN
CALSCALE:GREGORIAN
METHOD:PUBLISH
X-WR-CALNAME:ISPO
X-ORIGINAL-URL:https://ispoint.staging.celi.co.za
X-WR-CALDESC:Events for ISPO
REFRESH-INTERVAL;VALUE=DURATION:PT1H
X-Robots-Tag:noindex
X-PUBLISHED-TTL:PT1H
BEGIN:VTIMEZONE
TZID:Europe/Paris
BEGIN:DAYLIGHT
TZOFFSETFROM:+0100
TZOFFSETTO:+0200
TZNAME:CEST
DTSTART:20230326T010000
END:DAYLIGHT
BEGIN:STANDARD
TZOFFSETFROM:+0200
TZOFFSETTO:+0100
TZNAME:CET
DTSTART:20231029T010000
END:STANDARD
BEGIN:DAYLIGHT
TZOFFSETFROM:+0100
TZOFFSETTO:+0200
TZNAME:CEST
DTSTART:20240331T010000
END:DAYLIGHT
BEGIN:STANDARD
TZOFFSETFROM:+0200
TZOFFSETTO:+0100
TZNAME:CET
DTSTART:20241027T010000
END:STANDARD
BEGIN:DAYLIGHT
TZOFFSETFROM:+0100
TZOFFSETTO:+0200
TZNAME:CEST
DTSTART:20250330T010000
END:DAYLIGHT
BEGIN:STANDARD
TZOFFSETFROM:+0200
TZOFFSETTO:+0100
TZNAME:CET
DTSTART:20251026T010000
END:STANDARD
END:VTIMEZONE
BEGIN:VEVENT
DTSTART;VALUE=DATE:20240514
DTEND;VALUE=DATE:20240518
DTSTAMP:20260421T205640
CREATED:20250407T134318Z
LAST-MODIFIED:20250407T134318Z
UID:12109-1715644800-1715990399@ispoint.staging.celi.co.za
SUMMARY:OT World
DESCRIPTION:Next year it’s that time again: OTWorld\, International Trade Show and World Congress\, opens its doors in Leipzig from 14 – 17 May 2024. For more than 30 years\, OTWorld has been a must-attend event for all service providers\, manufacturers and retailers\, setting new standards for modern orthopaedic treatment and care. \nWith its unique combination of trade show and congress\, OTWorld has welcomed around 440 exhibitors and more than 18\,800 visitors from over 86 countries in 2022. \nPreparations for the 2024 edition are already in full swing: Particularly exciting topics are on the agenda for the World Congress. Whether it’s the focus topic paediatric orthopaedics or the fitting of orthopaedic appliances in the world’s crisis regions – top-class speakers from all over the world have already announced their participation. Abstracts can still be submitted until 17 September 2023. Shape the programme of the World Congress that will shed a light on the most important aspects of current trends and developments from an interdisciplinary point of view. Congress languages are German and English. Simultaneous translations into the other language are provided. \nMany companies have already registered to secure their spaces at the International Trade Show that will provide the ideal platform to learn about the newest trends and innovations of the industry. Early-bird rates for exhibitors are still available until 31 October 2023! \nBe part of this special event – as an exhibitor or as a visitor. We are looking forward to seeing you in Leipzig! \nSubscribe to the OTWorld newsletter to stay updated on the event! More information on OTWorld can be found at: https://www.ot-world.com/en/
URL:https://ispoint.staging.celi.co.za/event/ot-world/
CATEGORIES:Other Events
ATTACH;FMTTYPE=image/jpeg:https://ispoint.staging.celi.co.za/wp-content/uploads/2023/08/otw-2024-2l.jpg
END:VEVENT
END:VCALENDAR