BEGIN:VCALENDAR
VERSION:2.0
PRODID:-//ISPO - ECPv6.15.16//NONSGML v1.0//EN
CALSCALE:GREGORIAN
METHOD:PUBLISH
X-WR-CALNAME:ISPO
X-ORIGINAL-URL:https://ispoint.staging.celi.co.za
X-WR-CALDESC:Events for ISPO
REFRESH-INTERVAL;VALUE=DURATION:PT1H
X-Robots-Tag:noindex
X-PUBLISHED-TTL:PT1H
BEGIN:VTIMEZONE
TZID:Europe/Paris
BEGIN:DAYLIGHT
TZOFFSETFROM:+0100
TZOFFSETTO:+0200
TZNAME:CEST
DTSTART:20230326T010000
END:DAYLIGHT
BEGIN:STANDARD
TZOFFSETFROM:+0200
TZOFFSETTO:+0100
TZNAME:CET
DTSTART:20231029T010000
END:STANDARD
BEGIN:DAYLIGHT
TZOFFSETFROM:+0100
TZOFFSETTO:+0200
TZNAME:CEST
DTSTART:20240331T010000
END:DAYLIGHT
BEGIN:STANDARD
TZOFFSETFROM:+0200
TZOFFSETTO:+0100
TZNAME:CET
DTSTART:20241027T010000
END:STANDARD
BEGIN:DAYLIGHT
TZOFFSETFROM:+0100
TZOFFSETTO:+0200
TZNAME:CEST
DTSTART:20250330T010000
END:DAYLIGHT
BEGIN:STANDARD
TZOFFSETFROM:+0200
TZOFFSETTO:+0100
TZNAME:CET
DTSTART:20251026T010000
END:STANDARD
END:VTIMEZONE
BEGIN:VEVENT
DTSTART;TZID=Europe/Paris:20241011T150000
DTEND;TZID=Europe/Paris:20241011T160000
DTSTAMP:20260421T210433
CREATED:20250407T134839Z
LAST-MODIFIED:20250407T134839Z
UID:12117-1728658800-1728662400@ispoint.staging.celi.co.za
SUMMARY:Mastering the art of writing a scientific abstract
DESCRIPTION:How can you write a convincing scientific abstract that has the best chance of being accepted for presentation at the World Congress? \nThe webinar Mastering the art of writing a scientific abstract on Friday\, 11 October from 15:00 to 16:00 CET is dedicated to that very question. \nDr. Jaap van Netten\, human movement scientist and principal investigator at the department of rehabilitation at the Amsterdam UMC\, the Netherlands\, will share valuable insights and strategies on how to craft a high-quality scientific abstract with a strong chance of acceptance. The participation in the webinar is free of charge. \n>> Register now! <<\n 
URL:https://ispoint.staging.celi.co.za/event/mastering-the-art-of-writing-a-scientific-abstract/
CATEGORIES:ISPO Events
ATTACH;FMTTYPE=image/png:https://ispoint.staging.celi.co.za/wp-content/uploads/2024/09/Webinar.png
LOCATION:
END:VEVENT
END:VCALENDAR