BEGIN:VCALENDAR
VERSION:2.0
PRODID:-//ISPO - ECPv6.15.16//NONSGML v1.0//EN
CALSCALE:GREGORIAN
METHOD:PUBLISH
X-WR-CALNAME:ISPO
X-ORIGINAL-URL:https://ispoint.staging.celi.co.za
X-WR-CALDESC:Events for ISPO
REFRESH-INTERVAL;VALUE=DURATION:PT1H
X-Robots-Tag:noindex
X-PUBLISHED-TTL:PT1H
BEGIN:VTIMEZONE
TZID:Europe/Paris
BEGIN:DAYLIGHT
TZOFFSETFROM:+0100
TZOFFSETTO:+0200
TZNAME:CEST
DTSTART:20230326T010000
END:DAYLIGHT
BEGIN:STANDARD
TZOFFSETFROM:+0200
TZOFFSETTO:+0100
TZNAME:CET
DTSTART:20231029T010000
END:STANDARD
BEGIN:DAYLIGHT
TZOFFSETFROM:+0100
TZOFFSETTO:+0200
TZNAME:CEST
DTSTART:20240331T010000
END:DAYLIGHT
BEGIN:STANDARD
TZOFFSETFROM:+0200
TZOFFSETTO:+0100
TZNAME:CET
DTSTART:20241027T010000
END:STANDARD
BEGIN:DAYLIGHT
TZOFFSETFROM:+0100
TZOFFSETTO:+0200
TZNAME:CEST
DTSTART:20250330T010000
END:DAYLIGHT
BEGIN:STANDARD
TZOFFSETFROM:+0200
TZOFFSETTO:+0100
TZNAME:CET
DTSTART:20251026T010000
END:STANDARD
END:VTIMEZONE
BEGIN:VEVENT
DTSTART;VALUE=DATE:20241022
DTEND;VALUE=DATE:20241025
DTSTAMP:20260421T210126
CREATED:20250407T134932Z
LAST-MODIFIED:20250407T134932Z
UID:12119-1729555200-1729814399@ispoint.staging.celi.co.za
SUMMARY:ISPO Global Educators Meeting 2024
DESCRIPTION:The 4th Global Educators Meeting (GEM) will be hosted by the Baylor College of Medicine in Houston\, Texas (USA) \, October 22-24\, 2024. \nSimilar to previous GEMs\, GEM 2024 will be an international collaboration between Prosthetics and Orthotics (P&O) Educators that is committed to ongoing knowledge exchange\, professional development\, and supportive learning.  The meetings take place every two years\, give P&O education programmes globally the opportunity to showcase their activities\, connect with peers and discuss future needs and strategies of P&O education. \nThe theme of GEM 2024 is ”Innovate. Collaborate. Educate.”.  This theme was developed collaboratively using the results of the GEM Educators’ Survey that was circulated via ISPO and many of you had the opportunity to respond to.  The GEM Subcommittee and Local Organizing Committee consider the theme a fantastic platform for global educators to explore and contribute to developing prosthetics and orthotics education. \nA call for abstracts will be released later in 2023.  We will announce this via the various channels available to us as P&O educators\, including ISPO\, so please watch for this.  If you have not previously signed up to the P&O educators’ mailing list\, please do so now so you do not miss out on important information.  Sign up here or by scanning the QR code: \n \nYou may also be interested in the additional activities that are specific to GEM 2024.  These include a Wheelchair Service Hybrid Training Series – Basic Level\, being offered as a collaboration between ISPO and the ISWP. You can learn more about this by reviewing the information from the training series offered at the GEM 2022. \nYou are welcome to remain up-to-date on developments and past GEMs by exploring the reports from previous GEMs. \nThe GEM Subcommittee and Local Organizing Committee look forward to welcoming you to Houston\, Texas in 2024! \nWebsite: here
URL:https://ispoint.staging.celi.co.za/event/ispo-global-educators-meeting-2024/
LOCATION:Houston\, Texas\, TX\, United States
CATEGORIES:ISPO Events
ATTACH;FMTTYPE=image/jpeg:https://ispoint.staging.celi.co.za/wp-content/uploads/2023/08/GEM-2024-banner.jpg
END:VEVENT
END:VCALENDAR