BEGIN:VCALENDAR
VERSION:2.0
PRODID:-//ISPO - ECPv6.15.16//NONSGML v1.0//EN
CALSCALE:GREGORIAN
METHOD:PUBLISH
X-WR-CALNAME:ISPO
X-ORIGINAL-URL:https://ispoint.staging.celi.co.za
X-WR-CALDESC:Events for ISPO
REFRESH-INTERVAL;VALUE=DURATION:PT1H
X-Robots-Tag:noindex
X-PUBLISHED-TTL:PT1H
BEGIN:VTIMEZONE
TZID:Europe/Paris
BEGIN:DAYLIGHT
TZOFFSETFROM:+0100
TZOFFSETTO:+0200
TZNAME:CEST
DTSTART:20220327T010000
END:DAYLIGHT
BEGIN:STANDARD
TZOFFSETFROM:+0200
TZOFFSETTO:+0100
TZNAME:CET
DTSTART:20221030T010000
END:STANDARD
BEGIN:DAYLIGHT
TZOFFSETFROM:+0100
TZOFFSETTO:+0200
TZNAME:CEST
DTSTART:20230326T010000
END:DAYLIGHT
BEGIN:STANDARD
TZOFFSETFROM:+0200
TZOFFSETTO:+0100
TZNAME:CET
DTSTART:20231029T010000
END:STANDARD
BEGIN:DAYLIGHT
TZOFFSETFROM:+0100
TZOFFSETTO:+0200
TZNAME:CEST
DTSTART:20240331T010000
END:DAYLIGHT
BEGIN:STANDARD
TZOFFSETFROM:+0200
TZOFFSETTO:+0100
TZNAME:CET
DTSTART:20241027T010000
END:STANDARD
END:VTIMEZONE
BEGIN:VEVENT
DTSTART;TZID=Europe/Paris:20230310T140000
DTEND;TZID=Europe/Paris:20230310T150000
DTSTAMP:20260421T224328
CREATED:20250407T133409Z
LAST-MODIFIED:20250407T133409Z
UID:12095-1678456800-1678460400@ispoint.staging.celi.co.za
SUMMARY:ISPO CPD webinar: "The Physical Assessment of Children with Cerebral Palsy"
DESCRIPTION:Register for the first ISPO Continuous Professional Development committee interactive webinar on “The Physical Assessment of Children with Cerebral Palsy: A Multidisciplinary Approach” on Friday March 10th\, 2023 at 2.00pm CET including Q&A session. Please find here the programme. \nLearning Objectives:\n\nUtilize the current method of the physical assessment for children with Cerebral Palsy (CP) through a multidisciplinary team.\nClassify the movement disorders in a child with cerebral palsy according to the CP type.\nApply the measurement method of motor ability\, Muscle strength\, and Training outline for children with CP.\nCategorize the gait pattern according to the type of cerebral palsy and choose the type of  AFO for Orthotics treatment through effective classification tools; in addition to fitting considerations.\n\nPrice: Free for ISPO members\, $10 for non-members \n>> Register now!
URL:https://ispoint.staging.celi.co.za/event/ispo-cpd-webinar-the-physical-assessment-of-children-with-cerebral-palsy/
LOCATION:Virtual
CATEGORIES:ISPO Events
ATTACH;FMTTYPE=image/png:https://ispoint.staging.celi.co.za/wp-content/uploads/2023/03/Untitled-design-25.png
ORGANIZER;CN="ISPO":MAILTO:ispo@ispoint.staging.celi.co.za
END:VEVENT
END:VCALENDAR