BEGIN:VCALENDAR
VERSION:2.0
PRODID:-//ISPO - ECPv6.15.16//NONSGML v1.0//EN
CALSCALE:GREGORIAN
METHOD:PUBLISH
X-WR-CALNAME:ISPO
X-ORIGINAL-URL:https://ispoint.staging.celi.co.za
X-WR-CALDESC:Events for ISPO
REFRESH-INTERVAL;VALUE=DURATION:PT1H
X-Robots-Tag:noindex
X-PUBLISHED-TTL:PT1H
BEGIN:VTIMEZONE
TZID:Europe/Paris
BEGIN:DAYLIGHT
TZOFFSETFROM:+0100
TZOFFSETTO:+0200
TZNAME:CEST
DTSTART:20220327T010000
END:DAYLIGHT
BEGIN:STANDARD
TZOFFSETFROM:+0200
TZOFFSETTO:+0100
TZNAME:CET
DTSTART:20221030T010000
END:STANDARD
BEGIN:DAYLIGHT
TZOFFSETFROM:+0100
TZOFFSETTO:+0200
TZNAME:CEST
DTSTART:20230326T010000
END:DAYLIGHT
BEGIN:STANDARD
TZOFFSETFROM:+0200
TZOFFSETTO:+0100
TZNAME:CET
DTSTART:20231029T010000
END:STANDARD
BEGIN:DAYLIGHT
TZOFFSETFROM:+0100
TZOFFSETTO:+0200
TZNAME:CEST
DTSTART:20240331T010000
END:DAYLIGHT
BEGIN:STANDARD
TZOFFSETFROM:+0200
TZOFFSETTO:+0100
TZNAME:CET
DTSTART:20241027T010000
END:STANDARD
END:VTIMEZONE
BEGIN:VEVENT
DTSTART;VALUE=DATE:20230424
DTEND;VALUE=DATE:20230428
DTSTAMP:20260421T210104
CREATED:20250407T133701Z
LAST-MODIFIED:20250407T133701Z
UID:12099-1682294400-1682639999@ispoint.staging.celi.co.za
SUMMARY:ISPO 19th World Congress
DESCRIPTION:Save the date for the ISPO 19th World Congress\, which will be held from 24 to 27 April 2023 in Guadalajara\, Mexico. \nThe theme will be “The Art and the Science”.
URL:https://ispoint.staging.celi.co.za/event/ispo-19th-world-congress/
LOCATION:Guadalajara Convention Center\, Av. Mariano Otero #1499\, Verde Valle\, Guadalajara\, 44550\, Mexico
CATEGORIES:ISPO Events
ATTACH;FMTTYPE=image/jpeg:https://ispoint.staging.celi.co.za/wp-content/uploads/2021/10/mexico2023.jpg
ORGANIZER;CN="ISPO":MAILTO:ispo@ispoint.staging.celi.co.za
END:VEVENT
END:VCALENDAR