BEGIN:VCALENDAR
VERSION:2.0
PRODID:-//ISPO - ECPv6.15.16//NONSGML v1.0//EN
CALSCALE:GREGORIAN
METHOD:PUBLISH
X-WR-CALNAME:ISPO
X-ORIGINAL-URL:https://ispoint.staging.celi.co.za
X-WR-CALDESC:Events for ISPO
REFRESH-INTERVAL;VALUE=DURATION:PT1H
X-Robots-Tag:noindex
X-PUBLISHED-TTL:PT1H
BEGIN:VTIMEZONE
TZID:Europe/Paris
BEGIN:DAYLIGHT
TZOFFSETFROM:+0100
TZOFFSETTO:+0200
TZNAME:CEST
DTSTART:20240331T010000
END:DAYLIGHT
BEGIN:STANDARD
TZOFFSETFROM:+0200
TZOFFSETTO:+0100
TZNAME:CET
DTSTART:20241027T010000
END:STANDARD
BEGIN:DAYLIGHT
TZOFFSETFROM:+0100
TZOFFSETTO:+0200
TZNAME:CEST
DTSTART:20250330T010000
END:DAYLIGHT
BEGIN:STANDARD
TZOFFSETFROM:+0200
TZOFFSETTO:+0100
TZNAME:CET
DTSTART:20251026T010000
END:STANDARD
BEGIN:DAYLIGHT
TZOFFSETFROM:+0100
TZOFFSETTO:+0200
TZNAME:CEST
DTSTART:20260329T010000
END:DAYLIGHT
BEGIN:STANDARD
TZOFFSETFROM:+0200
TZOFFSETTO:+0100
TZNAME:CET
DTSTART:20261025T010000
END:STANDARD
END:VTIMEZONE
BEGIN:VEVENT
DTSTART;VALUE=DATE:20250616
DTEND;VALUE=DATE:20250620
DTSTAMP:20260421T194152
CREATED:20250407T135224Z
LAST-MODIFIED:20250602T111145Z
UID:12123-1750032000-1750377599@ispoint.staging.celi.co.za
SUMMARY:I.S.P.O. 20th World Congress
DESCRIPTION:Save the date for the I.S.P.O. 20th World Congress\, it will take place in 2025 in Stockholm\, Sweden\, and will be jointly hosted by the ISPO Member Societies of Sweden\, Norway\, the Netherlands\, and the United Kingdom. \nIts theme will be ‘Science in Practice\, Practice in Science: Collaboration and innovation towards sustainable rehabilitation’. \nWe look forward to seeing you in Stockholm\, Sweden!
URL:https://ispoint.staging.celi.co.za/event/i-s-p-o-20th-world-congress/
LOCATION:Stockholm\, Sweden\, Sweden
CATEGORIES:ISPO Events
ATTACH;FMTTYPE=image/jpeg:https://ispoint.staging.celi.co.za/wp-content/uploads/2022/04/uf4pfwzpor8.jpg
ORGANIZER;CN="ISPO":MAILTO:ispo@ispoint.staging.celi.co.za
END:VEVENT
END:VCALENDAR