BEGIN:VCALENDAR
VERSION:2.0
PRODID:-//ISPO - ECPv6.15.16//NONSGML v1.0//EN
CALSCALE:GREGORIAN
METHOD:PUBLISH
X-WR-CALNAME:ISPO
X-ORIGINAL-URL:https://ispoint.staging.celi.co.za
X-WR-CALDESC:Events for ISPO
REFRESH-INTERVAL;VALUE=DURATION:PT1H
X-Robots-Tag:noindex
X-PUBLISHED-TTL:PT1H
BEGIN:VTIMEZONE
TZID:Europe/Paris
BEGIN:DAYLIGHT
TZOFFSETFROM:+0100
TZOFFSETTO:+0200
TZNAME:CEST
DTSTART:20220327T010000
END:DAYLIGHT
BEGIN:STANDARD
TZOFFSETFROM:+0200
TZOFFSETTO:+0100
TZNAME:CET
DTSTART:20221030T010000
END:STANDARD
BEGIN:DAYLIGHT
TZOFFSETFROM:+0100
TZOFFSETTO:+0200
TZNAME:CEST
DTSTART:20230326T010000
END:DAYLIGHT
BEGIN:STANDARD
TZOFFSETFROM:+0200
TZOFFSETTO:+0100
TZNAME:CET
DTSTART:20231029T010000
END:STANDARD
BEGIN:DAYLIGHT
TZOFFSETFROM:+0100
TZOFFSETTO:+0200
TZNAME:CEST
DTSTART:20240331T010000
END:DAYLIGHT
BEGIN:STANDARD
TZOFFSETFROM:+0200
TZOFFSETTO:+0100
TZNAME:CET
DTSTART:20241027T010000
END:STANDARD
END:VTIMEZONE
BEGIN:VEVENT
DTSTART;TZID=Europe/Paris:20230331T100000
DTEND;TZID=Europe/Paris:20230331T110000
DTSTAMP:20260421T211830
CREATED:20250407T133544Z
LAST-MODIFIED:20250407T133544Z
UID:12097-1680256800-1680260400@ispoint.staging.celi.co.za
SUMMARY:How to implement an evidence-based intervention in rehabilitation care
DESCRIPTION:ISPO Mexico\, U.S.\, Canada Webinar series continues. The third #ISPO 2023 International Webinar will be on March 31\, 2023 at 10:00am Mexico time. The topic is “How to implement an evidence-based intervention in rehabilitation care: An introduction to knowledge translation” by Dr. Diana Zidarov\, PT\, PhD.\nClick the link here to register!
URL:https://ispoint.staging.celi.co.za/event/how-to-implement-an-evidence-based-intervention-in-rehabilitation-care/
CATEGORIES:ISPO Member Society Events
ATTACH;FMTTYPE=image/jpeg:https://ispoint.staging.celi.co.za/wp-content/uploads/2023/03/WEBINAR3.jpeg
END:VEVENT
END:VCALENDAR