BEGIN:VCALENDAR
VERSION:2.0
PRODID:-//ISPO - ECPv6.15.16//NONSGML v1.0//EN
CALSCALE:GREGORIAN
METHOD:PUBLISH
X-WR-CALNAME:ISPO
X-ORIGINAL-URL:https://ispoint.staging.celi.co.za
X-WR-CALDESC:Events for ISPO
REFRESH-INTERVAL;VALUE=DURATION:PT1H
X-Robots-Tag:noindex
X-PUBLISHED-TTL:PT1H
BEGIN:VTIMEZONE
TZID:Europe/Paris
BEGIN:DAYLIGHT
TZOFFSETFROM:+0100
TZOFFSETTO:+0200
TZNAME:CEST
DTSTART:20230326T010000
END:DAYLIGHT
BEGIN:STANDARD
TZOFFSETFROM:+0200
TZOFFSETTO:+0100
TZNAME:CET
DTSTART:20231029T010000
END:STANDARD
BEGIN:DAYLIGHT
TZOFFSETFROM:+0100
TZOFFSETTO:+0200
TZNAME:CEST
DTSTART:20240331T010000
END:DAYLIGHT
BEGIN:STANDARD
TZOFFSETFROM:+0200
TZOFFSETTO:+0100
TZNAME:CET
DTSTART:20241027T010000
END:STANDARD
BEGIN:DAYLIGHT
TZOFFSETFROM:+0100
TZOFFSETTO:+0200
TZNAME:CEST
DTSTART:20250330T010000
END:DAYLIGHT
BEGIN:STANDARD
TZOFFSETFROM:+0200
TZOFFSETTO:+0100
TZNAME:CET
DTSTART:20251026T010000
END:STANDARD
END:VTIMEZONE
BEGIN:VEVENT
DTSTART;TZID=Europe/Paris:20240927T150000
DTEND;TZID=Europe/Paris:20240927T160000
DTSTAMP:20260421T205749
CREATED:20250407T134712Z
LAST-MODIFIED:20250407T134712Z
UID:12115-1727449200-1727452800@ispoint.staging.celi.co.za
SUMMARY:Coping with technology shift in P&O
DESCRIPTION:This webinar will be moderated by Sandra Ramdial and speakers include Daniel Blocka\, Gerald Stark and Nicolas Munoz on Friday\, 27 September 2024 at 3pm CET. \nThe webinar is aimed at exploring the challenges and opportunities presented by the rapid technological advancements in P&O practices. \nMore specifically the webinar will aim to:\n• Take a glance on technology shift in P&O education\, transforming P&O education through technology\n• Explore how the P&O industry is shaping the future of P&O with new technologies\n• Share experience in incorporating digitalization in the daily P&O practice\, taking your P&O practice to the next level. \nThis webinar is free for ISPO members and $10 for non-members. \nNot yet an ISPO member? \nDiscover the exclusive benefits and opportunities of ISPO membership: \n\n\n\nSignificantly reduced registration fees to World Congress\, GEM and any other ISPO Events.\nFree access to ISPO Learn and other educational tools on ISPOINT Website.\nFree access to POI\, Prosthetics and Orthotics International.\nFree webinars and courses.\nBecoming part of ISPO and the international multidisciplinary P and O community.\n\n\n\nJoin ISPO today!
URL:https://ispoint.staging.celi.co.za/event/coping-with-technology-shift-in-po/
CATEGORIES:ISPO Events
LOCATION:
END:VEVENT
END:VCALENDAR