BEGIN:VCALENDAR
VERSION:2.0
PRODID:-//ISPO - ECPv6.15.16//NONSGML v1.0//EN
CALSCALE:GREGORIAN
METHOD:PUBLISH
X-WR-CALNAME:ISPO
X-ORIGINAL-URL:https://ispoint.staging.celi.co.za
X-WR-CALDESC:Events for ISPO
REFRESH-INTERVAL;VALUE=DURATION:PT1H
X-Robots-Tag:noindex
X-PUBLISHED-TTL:PT1H
BEGIN:VTIMEZONE
TZID:Europe/Paris
BEGIN:DAYLIGHT
TZOFFSETFROM:+0100
TZOFFSETTO:+0200
TZNAME:CEST
DTSTART:20230326T010000
END:DAYLIGHT
BEGIN:STANDARD
TZOFFSETFROM:+0200
TZOFFSETTO:+0100
TZNAME:CET
DTSTART:20231029T010000
END:STANDARD
BEGIN:DAYLIGHT
TZOFFSETFROM:+0100
TZOFFSETTO:+0200
TZNAME:CEST
DTSTART:20240331T010000
END:DAYLIGHT
BEGIN:STANDARD
TZOFFSETFROM:+0200
TZOFFSETTO:+0100
TZNAME:CET
DTSTART:20241027T010000
END:STANDARD
BEGIN:DAYLIGHT
TZOFFSETFROM:+0100
TZOFFSETTO:+0200
TZNAME:CEST
DTSTART:20250330T010000
END:DAYLIGHT
BEGIN:STANDARD
TZOFFSETFROM:+0200
TZOFFSETTO:+0100
TZNAME:CET
DTSTART:20251026T010000
END:STANDARD
END:VTIMEZONE
BEGIN:VEVENT
DTSTART;VALUE=DATE:20241102
DTEND;VALUE=DATE:20241105
DTSTAMP:20260421T194212
CREATED:20250407T135109Z
LAST-MODIFIED:20250407T135109Z
UID:12121-1730505600-1730764799@ispoint.staging.celi.co.za
SUMMARY:1st ISPO Arabic Regional Congress
DESCRIPTION:First Announcement  \nUnited Arab Society for P&O (UASPO) \nIn cooperation with the Jordanian NMS for P&O (JONSPO) \nare holding the \n1st ISPO Arabic Regional Congress for Prosthetics and Orthotics \nat Royal Hotel\, Amman- Jordan 2-4/11/2024 \n——————————————————— \nWorking together to enhance quality of life \nExploring Specialties’ Roles: Delve into the different specialities involved in the provision of mobility devices (prostheses\, orthoses\, wheelchairs\, etc) care in enabling individuals with mobility impairments to live healthy\, productive\, independent\, and dignified lives. This 1st ISPO Arabic Regional Congress aim at stimulating\, promoting\, and disseminating multidisciplinary regional exchanges to improve the quality of services. \nCall for Scientific Papers: We invite submissions from all related specialities on topics related to clinical and technical aspects of the provision of mobility devices services and education. Submissions are open from April 1\, 2024\, to August 30\, 2024. \nExhibition Opportunities for Companies: Limited spaces are available for companies to participate in the exhibition. Prices per square meter starts from 230 – 320 JD ($325-$450) for 3 days in addition to installation day. \nReserve your space early to secure your spot. Minimum space is 6 m2. \nTourist Program: Explore the vibrant culture and heritage of Jordan with our curated tourist program. \nFor more information\, participation\, registration\, and company reservations\, please contact us at Uaspo.org@gmail.com \nJoin us as we work towards making lives better through innovation\, collaboration\, and empowerment. \nwww.jopocongress.org. \n  \n  \nالاعلان الأولي \nيعقد الاتحاد العربي للأطراف الاصطناعية و المقومات \nبالتعاون مع الجمعية الوطنية لاختصاص الأطراف الاصطناعية و المقومات \nالمؤتمر “العربي الاقليمي” الأول للاتحاد الدولي للأطراف الاصطناعية و المقومات \nفندق الرويال عمان – الأردن 2-4 / 11/2024 \n——————————- \nنعمل معًا لتحسين حياتهم \nدور التخصصات المعنية : التعمق في التخصصات المختلفة ذات العلاقة في توفير مساعدات الحركة و التنقل (الأطراف الاصطناعية ، الأجهزة التقويمية ، الكراسي المتحركة ، إلخ) لرعاية و تمكينالأشخاص ذوي الإعاقة الحركية من عيش حياة صحية ومنتجة ومستقلة وكريمة .  \nيهدف المؤتمر “العربي الاقليمي” الأول للاتحاد الدولي للأطراف الاصطناعية و المقومات إلى تحفيزوتعزيز ونشر الخبرات الإقليمية متعددة التخصصات لتحسين جودة الخدمات المقدمة للمبتورين و غيرهم من ذوي الاعاقات الحركية . \nدعوة لتقديم الأوراق العلمية : ندعو لتقدیم المشاركات من جمیع التخصصات ذات الصلة حولموضوعات تتعلق بالجوانب الطبیة والجراحیة و الفنیة لتوفیر خدمات الأجھزة المتنقلة والتعلیم. \nالتقديم مفتوح من 1 نيسان 2024 إلى 30 آب 2024. \nمشاركة الشركات في المعرض : تتوفر مساحات محدودة للشركات للمشاركة في المعرض . أسعارالمتر المربع تبدأ من 230 – 320 دينار (325 – 450 دولار) لثلاثة أيام و يوم التجهيز . احجز مساحتكمبكراً لتضمن مكانك . الحد الأدنى للمساحة هو 6 م2 . \nالبرنامج السياحي : اكتشف ثقافة وتراث الأردن النابض بالحياة من خلال برنامجنا السياحي . \nلمزيد من المعلومات والمشاركة والتسجيل وحجز الشركات ، يرجى التواصل معنا على الايميل Uaspo.org@gmail.com \nwww.jopocongress.org \nانضم إلينا ونحن نعمل على تحسين الحياة من خلال الابتكار والتعاون والتمكين .
URL:https://ispoint.staging.celi.co.za/event/1st-ispo-arabic-regional-congress/
LOCATION:Royal Hotel Amman – Jordan\, Zahran St\, Amman\, 11118\, Jordan
CATEGORIES:ISPO Member Society Events
ATTACH;FMTTYPE=image/png:https://ispoint.staging.celi.co.za/wp-content/uploads/2024/05/First-Announcement-2.png
END:VEVENT
END:VCALENDAR